BEGIN:VCALENDAR
VERSION:2.0
PRODID:-//ChamberMaster//Event Calendar 2.0//EN
METHOD:PUBLISH
X-PUBLISHED-TTL:P3D
REFRESH-INTERVAL:P3D
CALSCALE:GREGORIAN
BEGIN:VEVENT
DTSTART:20200124T010000Z
DTEND:20200124T050000Z
X-MICROSOFT-CDO-ALLDAYEVENT:FALSE
SUMMARY:2020 Rammys - Business Awards & Installation Dinner
DESCRIPTION:Please Join Us in Honoring\n\n\n\n\n\n\n\nNonprofit of the Year\n\nUnited Cerebral Palsy Inland Empire\n\nSmall Business of the Year\n\nFirst Call Security & Sound\n\nMedium Business of the Year\n\nElephant Car Wash\n\nLarge Business of the Year\n\nOmni Rancho Las Palmas Resort & Spa\n\nRising Star Award\n\nPreservation Mirage\n\n\n\nHeart of Rancho Mirage\n\nEisenhower Health\n\nBusiness Person of the Year\n\nVincent Battaglia of Renova Energy\n\nAmbassador of the Year\n\nRick Heagle\, Cruise Planners\n\nChairwoman's Achievement Award\n\nSurprise Award\n\nBarbara Sinatra Distinguished Citizen of the Year Award\n\nHelene Galen\, Philanthropist\n\nHelene Galen Performing Arts Center in Rancho Mirage
X-ALT-DESC;FMTTYPE=text/html:<div class="columns lay_sec_2 no_pad columns_bg_color" style="margin: 0.5vw 0px\; padding: 0.5vw 0px\; border: 0px\; outline: 0px\; font-size: 17px\; font-family: Montserrat\, sans-serif\; line-height: 17px\; position: relative\; vertical-align: top\; text-align: center\; z-index: 1\; display: flex\; width: 1903px\; max-width: 100%\; flex-flow: row wrap\; justify-content: center\; align-items: stretch\; background: rgb(198\, 29\, 36)\; color: rgb(255\, 255\, 255)\;">\n<section class="column col_full" style="display: flex\; margin: 0px auto\; padding: 0px\; border: 0px\; outline: 0px\; line-height: 17px\; position: relative\; vertical-align: top\; text-align: left\; z-index: 1\; width: 1300px\; max-width: 1300px\; flex-flow: row wrap\; justify-content: center\; align-items: center\;">\n<div class="col_100" style="margin: 0.5vw 0px\; padding: 0.5vw 0px\; border: 0px\; outline: 0px\; line-height: 17px\; position: relative\; vertical-align: top\; text-align: center\; z-index: 1\; display: inline-block\; flex: 1 0 20%\;">\n<h2 style="margin: 0px auto\; padding: 0px\; border: 0px\; outline: 0px\; font-size: 37px\; line-height: 45px\; position: relative\; vertical-align: baseline\; z-index: 1\; font-weight: 300\; max-width: 1300px\;">Please Join Us in Honoring</h2>\n</div>\n</section>\n</div>\n\n<div class="columns lay_sec_3" style="margin: 1vw auto\; padding: 0px\; border: 0px\; outline: 0px\; font-size: 17px\; font-family: Montserrat\, sans-serif\; line-height: 17px\; position: relative\; vertical-align: top\; text-align: center\; z-index: 1\; display: flex\; max-width: 100%\; flex-flow: row wrap\; justify-content: center\; align-items: stretch\; color: rgb(59\, 59\, 59)\; background-color: rgb(255\, 255\, 255)\;">\n<section class="column col_full" style="display: flex\; margin: 0px auto\; padding: 0px\; border: 0px\; outline: 0px\; line-height: 17px\; position: relative\; vertical-align: top\; text-align: left\; z-index: 1\; width: 1712.69px\; max-width: 1920px\; flex-flow: row wrap\; justify-content: center\; align-items: stretch\;">\n<div class="col_50" style="margin: 0.5vw 1vw 0.5vw 0px\; padding: 0.5vw 1vw 0.5vw 0px\; border: 0px\; outline: 0px\; line-height: 17px\; position: relative\; vertical-align: top\; z-index: 1\; display: inline-block\; flex: 1 0 20%\; min-width: 300px\;">\n<p style="margin: 10px auto\; padding: 0px\; border: 0px\; outline: 0px\; line-height: 25px\; position: relative\; vertical-align: top\; text-align: center\; z-index: 1\; max-width: 1300px\;">Nonprofit of the Year<br />\n<strong style="margin: 0px\; padding: 0px\; border: 0px\; outline: 0px\; line-height: 25px\; position: relative\; vertical-align: baseline\; z-index: 1\;">United Cerebral Palsy Inland Empire</strong></p>\n\n<p style="margin: 10px auto\; padding: 0px\; border: 0px\; outline: 0px\; line-height: 25px\; position: relative\; vertical-align: top\; text-align: center\; z-index: 1\; max-width: 1300px\;">Small Business of the Year<br />\n<strong style="margin: 0px\; padding: 0px\; border: 0px\; outline: 0px\; line-height: 25px\; position: relative\; vertical-align: baseline\; z-index: 1\;">First Call Security &amp\; Sound</strong></p>\n\n<p style="margin: 10px auto\; padding: 0px\; border: 0px\; outline: 0px\; line-height: 25px\; position: relative\; vertical-align: top\; text-align: center\; z-index: 1\; max-width: 1300px\;">Medium Business of the Year<br />\n<strong style="margin: 0px\; padding: 0px\; border: 0px\; outline: 0px\; line-height: 25px\; position: relative\; vertical-align: baseline\; z-index: 1\;">Elephant Car Wash</strong></p>\n\n<p style="margin: 10px auto\; padding: 0px\; border: 0px\; outline: 0px\; line-height: 25px\; position: relative\; vertical-align: top\; text-align: center\; z-index: 1\; max-width: 1300px\;">Large Business of the Year<br />\n<strong style="margin: 0px\; padding: 0px\; border: 0px\; outline: 0px\; line-height: 25px\; position: relative\; vertical-align: baseline\; z-index: 1\;">Omni Rancho Las Palmas Resort &amp\; Spa</strong></p>\n\n<p style="margin: 10px auto\; padding: 0px\; border: 0px\; outline: 0px\; line-height: 25px\; position: relative\; vertical-align: top\; text-align: center\; z-index: 1\; max-width: 1300px\;">Rising Star Award<br />\n<strong style="margin: 0px\; padding: 0px\; border: 0px\; outline: 0px\; line-height: 25px\; position: relative\; vertical-align: baseline\; z-index: 1\;">Preservation Mirage</strong></p>\n</div>\n\n<div class="col_50" style="margin: 0.5vw 0px 0.5vw 1vw\; padding: 0.5vw 0px 0.5vw 1vw\; border: 0px\; outline: 0px\; line-height: 17px\; position: relative\; vertical-align: top\; z-index: 1\; display: inline-block\; flex: 1 0 20%\; min-width: 300px\;">\n<p style="margin: 10px auto\; padding: 0px\; border: 0px\; outline: 0px\; line-height: 25px\; position: relative\; vertical-align: top\; text-align: center\; z-index: 1\; max-width: 1300px\;">Heart of Rancho Mirage<br />\n<strong style="margin: 0px\; padding: 0px\; border: 0px\; outline: 0px\; line-height: 25px\; position: relative\; vertical-align: baseline\; z-index: 1\;">Eisenhower Health</strong></p>\n\n<p style="margin: 10px auto\; padding: 0px\; border: 0px\; outline: 0px\; line-height: 25px\; position: relative\; vertical-align: top\; text-align: center\; z-index: 1\; max-width: 1300px\;">Business Person of the Year<br />\n<strong style="margin: 0px\; padding: 0px\; border: 0px\; outline: 0px\; line-height: 25px\; position: relative\; vertical-align: baseline\; z-index: 1\;">Vincent Battaglia of Renova Energy</strong></p>\n\n<p style="margin: 10px auto\; padding: 0px\; border: 0px\; outline: 0px\; line-height: 25px\; position: relative\; vertical-align: top\; text-align: center\; z-index: 1\; max-width: 1300px\;">Ambassador of the Year<br />\n<strong style="margin: 0px\; padding: 0px\; border: 0px\; outline: 0px\; line-height: 25px\; position: relative\; vertical-align: baseline\; z-index: 1\;">Rick Heagle\, Cruise Planners</strong></p>\n\n<p style="margin: 10px auto\; padding: 0px\; border: 0px\; outline: 0px\; line-height: 25px\; position: relative\; vertical-align: top\; text-align: center\; z-index: 1\; max-width: 1300px\;">Chairwoman&rsquo\;s Achievement Award<br />\n<strong style="margin: 0px\; padding: 0px\; border: 0px\; outline: 0px\; line-height: 25px\; position: relative\; vertical-align: baseline\; z-index: 1\;">Surprise Award</strong></p>\n\n<p style="margin: 10px auto\; padding: 0px\; border: 0px\; outline: 0px\; line-height: 25px\; position: relative\; vertical-align: top\; text-align: center\; z-index: 1\; max-width: 1300px\;">Barbara Sinatra Distinguished Citizen of the Year Award<br />\n<strong style="margin: 0px\; padding: 0px\; border: 0px\; outline: 0px\; line-height: 25px\; position: relative\; vertical-align: baseline\; z-index: 1\;">Helene Galen\, Philanthropist</strong><br />\n<strong style="margin: 0px\; padding: 0px\; border: 0px\; outline: 0px\; line-height: 25px\; position: relative\; vertical-align: baseline\; z-index: 1\;">Helene Galen Performing Arts Center in Rancho Mirage</strong></p>\n</div>\n</section>\n</div>\n
LOCATION:Agua Caliente Resort Casino Spa Rancho Mirage 32250 Bob Hope Drive\, Rancho Mirage\, CA 92270
UID:e.241.4097
SEQUENCE:3
DTSTAMP:20260423T051934Z
URL:https://business.ranchomiragechamber.org/events/details/2020-rammys-business-awards-installation-dinner-4097
END:VEVENT

END:VCALENDAR
