BEGIN:VCALENDAR
VERSION:2.0
PRODID:-//ChamberMaster//Event Calendar 2.0//EN
METHOD:PUBLISH
X-PUBLISHED-TTL:P3D
REFRESH-INTERVAL:P3D
CALSCALE:GREGORIAN
BEGIN:VEVENT
DTSTART:20211210T170000Z
DTEND:20211210T180000Z
X-MICROSOFT-CDO-ALLDAYEVENT:FALSE
SUMMARY:Ambassador Meeting
DESCRIPTION:Monthly Ambassador Meeting has changed to the 10th of December due to the Chamber Masters Golf Tournament which will take place on our normally scheduled meeting on the 3rd.\n\n\n\nPlease RSVP if you plan to attend!  We will adjust our meeting location if needed due to space.  Thank you!
X-ALT-DESC;FMTTYPE=text/html:Monthly Ambassador Meeting has changed to the 10th of December due to the Chamber Masters Golf Tournament which will take place on our normally scheduled meeting on the 3rd.<br />\n<br />\nPlease RSVP if you plan to attend!&nbsp\; We will adjust our meeting location if needed due to space.&nbsp\; Thank you!
LOCATION:Rancho Mirage Chamber of Commerce 71905 Highway 111\, Suite H Rancho Mirage\, CA 92270
UID:e.241.4634
SEQUENCE:3
DTSTAMP:20260422T214131Z
URL:https://business.ranchomiragechamber.org/events/details/ambassador-meeting-4634
END:VEVENT

END:VCALENDAR
