BEGIN:VCALENDAR
VERSION:2.0
PRODID:-//ChamberMaster//Event Calendar 2.0//EN
METHOD:PUBLISH
X-PUBLISHED-TTL:P3D
REFRESH-INTERVAL:P3D
CALSCALE:GREGORIAN
BEGIN:VEVENT
DTSTART:20241213T180000Z
DTEND:20241213T220000Z
X-MICROSOFT-CDO-ALLDAYEVENT:FALSE
SUMMARY:Annual Holiday Open House and Cookie Drive
DESCRIPTION:Stop by our office for our annual holiday open house and cookie drive for our local nurses.  Bring a batch of your favorite cookies to donate to the local hospitals.  We will begin accepting cookie donations Thursday\, December 12th from 10 AM - 3 PM for those that are unable to visit make it on the 13th.  On Friday\, our office will be hosting some light bites and holiday cheer beginning at 10 AM.  All donations will be gathered and dropped off at the local hospitals at 3:00 PM.\n\n\n\nWe will also partner with LifeStream Blood Bank for a holiday blood drive.  The holidays are a perfect time to give the gift of life by donating.  We will begin the blood drive at 9:00 AM and end at 2:00 PM.  Please bring a friend or family member along to donate.  The more donations the better!
X-ALT-DESC;FMTTYPE=text/html:Stop by our office for our annual holiday open house and cookie drive for our local nurses.&nbsp\; Bring a batch of your favorite cookies to donate to the local hospitals.&nbsp\; We will begin accepting cookie donations Thursday\, December 12th from 10 AM - 3 PM for those that are unable to visit make it on the 13th.&nbsp\; On Friday\, our office will be hosting some light bites and holiday cheer beginning at 10 AM.&nbsp\; All donations will be gathered and dropped off at the local hospitals at 3:00 PM.<br>\n<br>\nWe will also partner with LifeStream Blood Bank for a holiday blood drive.&nbsp\; The holidays are a perfect time to give the gift of life by donating.&nbsp\; We will begin the blood drive at 9:00 AM and end at 2:00 PM.&nbsp\; Please bring a friend or family member along to donate.&nbsp\; The more donations the better!
LOCATION:Rancho Mirage Chamber of Commerce 71905 Highway 111\, Suite H Rancho Mirage
UID:e.241.5194
SEQUENCE:3
DTSTAMP:20260424T033240Z
URL:https://business.ranchomiragechamber.org/events/details/annual-holiday-open-house-and-cookie-drive-5194
END:VEVENT

END:VCALENDAR
