BEGIN:VCALENDAR
VERSION:2.0
PRODID:-//ChamberMaster//Event Calendar 2.0//EN
METHOD:PUBLISH
X-PUBLISHED-TTL:P3D
REFRESH-INTERVAL:P3D
CALSCALE:GREGORIAN
BEGIN:VEVENT
DTSTART:20210210T160000Z
DTEND:20210210T170000Z
X-MICROSOFT-CDO-ALLDAYEVENT:FALSE
SUMMARY:Commerce and Coffee
DESCRIPTION:Mid Week Commerce and Coffee over Zoom
X-ALT-DESC;FMTTYPE=text/html:Mid Week Commerce and Coffee over Zoom
LOCATION:Zoom
UID:e.241.4491
SEQUENCE:3
DTSTAMP:20260424T152943Z
URL:https://business.ranchomiragechamber.org/events/details/commerce-and-coffee-4491
END:VEVENT

END:VCALENDAR
