BEGIN:VCALENDAR
VERSION:2.0
PRODID:-//ChamberMaster//Event Calendar 2.0//EN
METHOD:PUBLISH
X-PUBLISHED-TTL:P3D
REFRESH-INTERVAL:P3D
CALSCALE:GREGORIAN
BEGIN:VEVENT
DTSTART:20220629T230000Z
DTEND:20220630T000000Z
X-MICROSOFT-CDO-ALLDAYEVENT:FALSE
SUMMARY:Joint Ribbon Cutting at Bulldog Cannabis
DESCRIPTION:Rancho Mirage Chamber\, Thousand Palms Chamber and Greater CV Chamber join forces for a joint ribbon cutting celebration at Bulldog Cannabis in Thousand Palms.
X-ALT-DESC;FMTTYPE=text/html:Rancho Mirage Chamber\, Thousand Palms Chamber and Greater CV Chamber join forces for a joint ribbon cutting celebration at Bulldog Cannabis in Thousand Palms.
LOCATION:Bulldog Cannabis 72242 Watt Court Thousand Palms (North side of I-10 freeway across from Agua Caliente Resort Casino)
UID:e.241.4981
SEQUENCE:3
DTSTAMP:20260420T200557Z
URL:https://business.ranchomiragechamber.org/events/details/joint-ribbon-cutting-at-bulldog-cannabis-4981
END:VEVENT

END:VCALENDAR
