BEGIN:VCALENDAR
VERSION:2.0
PRODID:-//ChamberMaster//Event Calendar 2.0//EN
METHOD:PUBLISH
X-PUBLISHED-TTL:P3D
REFRESH-INTERVAL:P3D
CALSCALE:GREGORIAN
BEGIN:VEVENT
DTSTART:20240509T160000Z
DTEND:20240509T170000Z
X-MICROSOFT-CDO-ALLDAYEVENT:FALSE
SUMMARY:Member Orientation
DESCRIPTION:Meet and network with local business professionals. The first step in any membership orientation is to meet and network with other local business professionals. This is a great opportunity to learn about other businesses in your community\, share your own business story\, and build relationships that can benefit your business in the future.\n	Learn about chamber membership benefits. The next part of the orientation will focus on the chamber's membership benefits. This is your chance to learn about all of the resources and services that the chamber has to offer\, such as networking events\, educational programs\, and marketing opportunities.\n	Hear about the chamber's program of work. Finally\, you will have the opportunity to hear about the chamber's program of work. This is your chance to learn about the chamber's goals and priorities\, and how you can get involved.\n	Share about your business. Once you have had a chance to meet some of the other members\, it is time to share about your own business. This is your chance to tell your story\, explain what you do\, and highlight your unique selling points.\n	Introduce yourself. It is also important to introduce yourself to the other members. This is a good time to share your name\, what you do\, and why you joined the chamber.\n\n\nBring business cards to share. It is always a good idea to bring business cards to a membership orientation. This will make it easy to exchange contact information with other members\, and it will help you stay connected with the chamber after the orientation is over.\n\n\n\nEvent Sponsored By: State Farm - Melanie Villeneuve Agency
X-ALT-DESC;FMTTYPE=text/html:<ul style="margin: 4px 0px\; padding-inline-start: 36px\; color: rgb(31\, 31\, 31)\; font-family: &quot\;Google Sans&quot\;\, &quot\;Helvetica Neue&quot\;\, sans-serif\; font-size: 16px\;">\n	<li style="margin-bottom: 10px\;"><span style="font-size: 12px\;">Meet and network with local business professionals.&nbsp\;The first step in any membership orientation is to meet and network with other local business professionals. This is a great opportunity to learn about other businesses in your community\, share your own business story\, and build relationships that can benefit your business in the future.</span></li>\n	<li style="margin-bottom: 10px\;"><span style="font-size: 12px\;">Learn about chamber membership benefits.&nbsp\;The next part of the orientation will focus on the chamber&#39\;s membership benefits. This is your chance to learn about all of the resources and services that the chamber has to offer\, such as networking events\, educational programs\, and marketing opportunities.</span></li>\n	<li style="margin-bottom: 10px\;"><span style="font-size: 12px\;">Hear about the chamber&#39\;s program of work.&nbsp\;Finally\, you will have the opportunity to hear about the chamber&#39\;s program of work. This is your chance to learn about the chamber&#39\;s goals and priorities\, and how you can get involved.</span></li>\n	<li style="margin-bottom: 10px\;"><span style="font-size: 12px\;">Share about your business.&nbsp\;Once you have had a chance to meet some of the other members\, it is time to share about your own business. This is your chance to tell your story\, explain what you do\, and highlight your unique selling points.</span></li>\n	<li style="margin-bottom: 10px\;"><span style="font-size: 12px\;">Introduce yourself.&nbsp\;It is also important to introduce yourself to the other members. This is a good time to share your name\, what you do\, and why you joined the chamber.</span></li>\n</ul>\n\n<p style="white-space-collapse: preserve\; margin: 24px 0px\; word-break: break-word\; color: rgb(31\, 31\, 31)\; font-family: &quot\;Google Sans&quot\;\, &quot\;Helvetica Neue&quot\;\, sans-serif\; font-size: 16px\;"><span style="font-size: 12px\;">Bring business cards to share. It is always a good idea to bring business cards to a membership orientation. This will make it easy to exchange contact information with other members\, and it will help you stay connected with the chamber after the orientation is over.</span><br />\n<br />\nEvent Sponsored By: <strong>State Farm - Melanie Villeneuve Agency&nbsp\;</strong></p>\n
LOCATION:Rancho Mirage City Hall - Council Chambers 69825 Highway 111 (at Frank Sinatra) Rancho Mirage
UID:e.241.5130
SEQUENCE:3
DTSTAMP:20260422T185803Z
URL:https://business.ranchomiragechamber.org/events/details/member-orientation-5130
END:VEVENT

END:VCALENDAR
