BEGIN:VCALENDAR
VERSION:2.0
PRODID:-//ChamberMaster//Event Calendar 2.0//EN
METHOD:PUBLISH
X-PUBLISHED-TTL:P3D
REFRESH-INTERVAL:P3D
CALSCALE:GREGORIAN
BEGIN:VEVENT
DTSTART:20230119T193000Z
DTEND:20230119T210000Z
X-MICROSOFT-CDO-ALLDAYEVENT:FALSE
SUMMARY:Networking Power Lunch at Revel Palm Desert
DESCRIPTION:Network over lunch with other like minded business professionals.  Take a moment to introduce yourself and tell about your business.  Bring plenty of business cards to share.\n\n\n\nPlease be sure to RSVP in advance. Power Lunches tend sell out quickly!\n\n\n\nMenu Options:\n\n\n\nBruschetta:  Tomato\, Arugula\, Balsamic Vinaigrette\, Onion Bacon Marmalade\, Mushroom\, Garlic & Olive Oil\, Apple\, Brie\, Honey\n\nCitrus Salad:  With Salmon or Chicken\n\nMushroom Ravioli:  With Garlic Bread\n\n\n\nFruit Assortment\n\nPastry Assortment
X-ALT-DESC;FMTTYPE=text/html:<span style="color: rgb(51\, 51\, 51)\; font-family: sans-serif\, Arial\, Verdana\, &quot\;Trebuchet MS&quot\;\; font-size: 13px\; background-color: rgb(255\, 255\, 255)\;">Network over lunch with other like minded business professionals.&nbsp\; Take a moment to introduce yourself and tell about your business.&nbsp\; Bring plenty of business cards to share.</span><br style="color: rgb(51\, 51\, 51)\; font-family: sans-serif\, Arial\, Verdana\, &quot\;Trebuchet MS&quot\;\; font-size: 13px\;" />\n<br style="color: rgb(51\, 51\, 51)\; font-family: sans-serif\, Arial\, Verdana\, &quot\;Trebuchet MS&quot\;\; font-size: 13px\;" />\nPlease be sure to RSVP in advance. Power Lunches tend sell out quickly!<br />\n<br />\nMenu Options:<br />\n<br />\nBruschetta:&nbsp\; Tomato\, Arugula\, Balsamic Vinaigrette\, Onion Bacon Marmalade\, Mushroom\, Garlic &amp\; Olive Oil\, Apple\, Brie\, Honey<br />\nCitrus Salad:&nbsp\; With Salmon or Chicken<br />\nMushroom Ravioli:&nbsp\; With Garlic Bread<br />\n<br />\nFruit Assortment<br />\nPastry Assortment
LOCATION:Revel Palm Desert 74300 Country Club Drive Palm Desert
UID:e.241.5012
SEQUENCE:3
DTSTAMP:20260422T125718Z
URL:https://business.ranchomiragechamber.org/events/details/networking-power-lunch-at-revel-palm-desert-5012
END:VEVENT

END:VCALENDAR
