BEGIN:VCALENDAR
VERSION:2.0
PRODID:-//ChamberMaster//Event Calendar 2.0//EN
METHOD:PUBLISH
X-PUBLISHED-TTL:P3D
REFRESH-INTERVAL:P3D
CALSCALE:GREGORIAN
BEGIN:VEVENT
DTSTART:20200221T010000Z
DTEND:20200221T023000Z
X-MICROSOFT-CDO-ALLDAYEVENT:FALSE
SUMMARY:Palm Springs & Rancho Mirage Chamber's Joint Mixer at the Ritz
DESCRIPTION:Join us on February 20th for our Mixer held at the The Ritz-Carlton\, Rancho Mirage. This will be a joint mixer with the Palm Springs Chamber and Rancho Mirage Chamber. Free to attend if you are a Palm Springs Chamber member. $5 Rancho Mirage Chamber Members. Guests $15. Bring plenty of business cards!  \n\n(Raffle items requested - it is a GREAT way to advertise your business!)
X-ALT-DESC;FMTTYPE=text/html:<span style="color: rgb(29\, 33\, 41)\; font-family: Helvetica\, Arial\, sans-serif\; font-size: 14px\; white-space: pre-wrap\; background-color: rgb(255\, 255\, 255)\;">Join us on February 20th for our Mixer held at the The Ritz-Carlton\, Rancho Mirage. This will be a joint mixer with the Palm Springs Chamber and Rancho Mirage Chamber. Free to attend if you are a Palm Springs Chamber member. $5 Rancho Mirage Chamber Members. Guests $15. </span><span style="color: rgb(59\, 59\, 59)\; font-family: Arial\, Helvetica\, sans-serif\; font-size: 14px\;">Bring plenty of business cards!&nbsp\;&nbsp\;</span><br />\n<span style="color: rgb(59\, 59\, 59)\; font-family: Arial\, Helvetica\, sans-serif\; font-size: 14px\;">(Raffle items requested - it is a GREAT way to advertise your business!)</span>
LOCATION:The Ritz-Carlton\, Rancho Mirage 68900 Frank Sinatra Drive\, Rancho Mirage\, CA 92270
UID:e.241.4405
SEQUENCE:3
DTSTAMP:20260424T171650Z
URL:https://business.ranchomiragechamber.org/events/details/palm-springs-rancho-mirage-chamber-s-joint-mixer-at-the-ritz-4405
END:VEVENT

END:VCALENDAR
