BEGIN:VCALENDAR
VERSION:2.0
PRODID:-//ChamberMaster//Event Calendar 2.0//EN
METHOD:PUBLISH
X-PUBLISHED-TTL:P3D
REFRESH-INTERVAL:P3D
CALSCALE:GREGORIAN
BEGIN:VEVENT
DTSTART:20230921T183000Z
DTEND:20230921T200000Z
X-MICROSOFT-CDO-ALLDAYEVENT:FALSE
SUMMARY:**SOLD OUT**Networking Power Lunch at Si Bon
DESCRIPTION:**SOLD OUT** Wait list has been enabled.\n\n\n\n\n\nJoin us for a networking power lunch at Si Bon!  Have a great lunch while meeting new business contacts.  Be prepared to give your 30 second introduction.  Bring your business cards.  All business cards collected will be sent out after the lunch to all attendees.\n\n\n\nMenu:\n\n\n\nAppetizer:\n\nCold Cucumber Soup\n\n\n\nEntrees to Choose From:\n\nChicken Milanese on House Fusilli Pasta\n\nSalmon and Spinach Crepe\n\nPapaya Stuffed Chicken Salad\, Curry Dressing\n\nBeef Stroganoff\n\n\n\nDessert:\n\nWaffle Pudding\, Vanilla Sauce
X-ALT-DESC;FMTTYPE=text/html:<strong><span style="color:#FF0000\;">**SOLD OUT** Wait list has been enabled.</span></strong><br />\n<br />\n<br />\nJoin us for a networking power lunch at Si Bon!&nbsp\; Have a great lunch while meeting new business contacts.&nbsp\; Be prepared to give your 30 second introduction.&nbsp\; Bring your business cards.&nbsp\; All business cards collected will be sent out after the lunch to all attendees.<br />\n<br />\n<span style="font-size:14px\;"><strong>Menu:</strong></span><br />\n<br />\n<strong>Appetizer:</strong><br />\nCold Cucumber Soup<br />\n<br />\n<strong>Entrees to Choose From:</strong><br />\nChicken Milanese on House Fusilli Pasta<br />\nSalmon and Spinach Crepe<br />\nPapaya Stuffed Chicken Salad\, Curry Dressing<br />\nBeef Stroganoff<br />\n<br />\n<strong>Dessert:</strong><br />\nWaffle Pudding\, Vanilla Sauce<br />\n&nbsp\;
LOCATION:Si Bon 40101 Monterey Avenue\, Suite E5 Rancho Mirage
UID:e.241.5096
SEQUENCE:3
DTSTAMP:20260422T125108Z
URL:https://business.ranchomiragechamber.org/events/details/sold-out-networking-power-lunch-at-si-bon-09-21-2023-5096
END:VEVENT

END:VCALENDAR
